BEGIN:VCALENDAR
PRODID:www.fdp-berlin.de
VERSION:2.0
CALSCALE:GREGORIAN
BEGIN:VEVENT
UID:56655bf352b6ef00f345de328e33e6f3
DTSTAMP:20260424T075721Z
SUMMARY:Landesparteitag
DTSTART:20260509T080000Z
DTEND;TZID=Europe/Berlin:20260509T235959
LOCATION:NLND Neuland Berlin\, Neuköllnische Allee 80\, 12057 Berlin\, Deu
 tschland
X-MICROSOFT-LOCATIONDISPLAYNAME:NLND Neuland Berlin\, Neuköllnische Allee 
 80\, 12057 Berlin\, Deutschland
X-MICROSOFT-LOCATIONSTREET:Neuköllnische Allee 80
X-MICROSOFT-LOCATIONPOSTALCODE:12057
X-MICROSOFT-LOCATIONCITY:Berlin
X-MICROSOFT-LOCATIONCOUNTRY:Deutschland
END:VEVENT
END:VCALENDAR
