BEGIN:VCALENDAR
PRODID:www.fdp-berlin.de
VERSION:2.0
CALSCALE:GREGORIAN
BEGIN:VEVENT
UID:170d6b98a5ab5b98124eb550224f4ec7
DTSTAMP:20260424T080129Z
SUMMARY:Sitzung des Landesausschusses
DTSTART:20260701T170000Z
DTEND;TZID=Europe/Berlin:20260701T235959
LOCATION:
X-MICROSOFT-LOCATIONDISPLAYNAME:
END:VEVENT
END:VCALENDAR
