BEGIN:VCALENDAR
PRODID:www.fdp-berlin.de
VERSION:2.0
CALSCALE:GREGORIAN
BEGIN:VEVENT
UID:8e64c3deda42c081df997c86408a4aec
DTSTAMP:20260424T075957Z
SUMMARY:Sitzung des Landesausschusses
DTSTART:20260819T170000Z
DTEND;TZID=Europe/Berlin:20260819T235959
LOCATION:
X-MICROSOFT-LOCATIONDISPLAYNAME:
END:VEVENT
END:VCALENDAR
