BEGIN:VCALENDAR
PRODID:www.fdp-berlin.de
VERSION:2.0
CALSCALE:GREGORIAN
BEGIN:VEVENT
UID:c7d250c73b313413bb48afee0424e1a2
DTSTAMP:20260420T082641Z
SUMMARY:Landesfachausschuss Soziales\, Jugend\, Familie sowie offene Gesell
 schaft und Diversität
DTSTART:20260420T170000Z
DTEND;TZID=Europe/Berlin:20260420T235959
LOCATION:FDP Bundesgeschäftsstelle\, Reinhardtstraße 14\, 10117 Berlin\, 
 Deutschland
X-MICROSOFT-LOCATIONDISPLAYNAME:FDP Bundesgeschäftsstelle\, Reinhardtstra
 ße 14\, 10117 Berlin\, Deutschland
X-MICROSOFT-LOCATIONSTREET:Reinhardtstraße 14
X-MICROSOFT-LOCATIONPOSTALCODE:10117
X-MICROSOFT-LOCATIONCITY:Berlin
X-MICROSOFT-LOCATIONCOUNTRY:Deutschland
END:VEVENT
END:VCALENDAR
